BEGIN:VCALENDAR
VERSION:2.0
PRODID:-//War Game - ECPv6.15.20//NONSGML v1.0//EN
CALSCALE:GREGORIAN
METHOD:PUBLISH
X-WR-CALNAME:War Game
X-ORIGINAL-URL:https://wargamefilm.com
X-WR-CALDESC:Events for War Game
REFRESH-INTERVAL;VALUE=DURATION:PT1H
X-Robots-Tag:noindex
X-PUBLISHED-TTL:PT1H
BEGIN:VTIMEZONE
TZID:America/New_York
BEGIN:DAYLIGHT
TZOFFSETFROM:-0500
TZOFFSETTO:-0400
TZNAME:EDT
DTSTART:20230312T070000
END:DAYLIGHT
BEGIN:STANDARD
TZOFFSETFROM:-0400
TZOFFSETTO:-0500
TZNAME:EST
DTSTART:20231105T060000
END:STANDARD
BEGIN:DAYLIGHT
TZOFFSETFROM:-0500
TZOFFSETTO:-0400
TZNAME:EDT
DTSTART:20240310T070000
END:DAYLIGHT
BEGIN:STANDARD
TZOFFSETFROM:-0400
TZOFFSETTO:-0500
TZNAME:EST
DTSTART:20241103T060000
END:STANDARD
BEGIN:DAYLIGHT
TZOFFSETFROM:-0500
TZOFFSETTO:-0400
TZNAME:EDT
DTSTART:20250309T070000
END:DAYLIGHT
BEGIN:STANDARD
TZOFFSETFROM:-0400
TZOFFSETTO:-0500
TZNAME:EST
DTSTART:20251102T060000
END:STANDARD
END:VTIMEZONE
BEGIN:VTIMEZONE
TZID:Europe/Amsterdam
BEGIN:DAYLIGHT
TZOFFSETFROM:+0100
TZOFFSETTO:+0200
TZNAME:CEST
DTSTART:20230326T010000
END:DAYLIGHT
BEGIN:STANDARD
TZOFFSETFROM:+0200
TZOFFSETTO:+0100
TZNAME:CET
DTSTART:20231029T010000
END:STANDARD
BEGIN:DAYLIGHT
TZOFFSETFROM:+0100
TZOFFSETTO:+0200
TZNAME:CEST
DTSTART:20240331T010000
END:DAYLIGHT
BEGIN:STANDARD
TZOFFSETFROM:+0200
TZOFFSETTO:+0100
TZNAME:CET
DTSTART:20241027T010000
END:STANDARD
BEGIN:DAYLIGHT
TZOFFSETFROM:+0100
TZOFFSETTO:+0200
TZNAME:CEST
DTSTART:20250330T010000
END:DAYLIGHT
BEGIN:STANDARD
TZOFFSETFROM:+0200
TZOFFSETTO:+0100
TZNAME:CET
DTSTART:20251026T010000
END:STANDARD
END:VTIMEZONE
BEGIN:VTIMEZONE
TZID:Europe/Warsaw
BEGIN:DAYLIGHT
TZOFFSETFROM:+0100
TZOFFSETTO:+0200
TZNAME:CEST
DTSTART:20230326T010000
END:DAYLIGHT
BEGIN:STANDARD
TZOFFSETFROM:+0200
TZOFFSETTO:+0100
TZNAME:CET
DTSTART:20231029T010000
END:STANDARD
BEGIN:DAYLIGHT
TZOFFSETFROM:+0100
TZOFFSETTO:+0200
TZNAME:CEST
DTSTART:20240331T010000
END:DAYLIGHT
BEGIN:STANDARD
TZOFFSETFROM:+0200
TZOFFSETTO:+0100
TZNAME:CET
DTSTART:20241027T010000
END:STANDARD
BEGIN:DAYLIGHT
TZOFFSETFROM:+0100
TZOFFSETTO:+0200
TZNAME:CEST
DTSTART:20250330T010000
END:DAYLIGHT
BEGIN:STANDARD
TZOFFSETFROM:+0200
TZOFFSETTO:+0100
TZNAME:CET
DTSTART:20251026T010000
END:STANDARD
END:VTIMEZONE
BEGIN:VTIMEZONE
TZID:America/Chicago
BEGIN:DAYLIGHT
TZOFFSETFROM:-0600
TZOFFSETTO:-0500
TZNAME:CDT
DTSTART:20230312T080000
END:DAYLIGHT
BEGIN:STANDARD
TZOFFSETFROM:-0500
TZOFFSETTO:-0600
TZNAME:CST
DTSTART:20231105T070000
END:STANDARD
BEGIN:DAYLIGHT
TZOFFSETFROM:-0600
TZOFFSETTO:-0500
TZNAME:CDT
DTSTART:20240310T080000
END:DAYLIGHT
BEGIN:STANDARD
TZOFFSETFROM:-0500
TZOFFSETTO:-0600
TZNAME:CST
DTSTART:20241103T070000
END:STANDARD
BEGIN:DAYLIGHT
TZOFFSETFROM:-0600
TZOFFSETTO:-0500
TZNAME:CDT
DTSTART:20250309T080000
END:DAYLIGHT
BEGIN:STANDARD
TZOFFSETFROM:-0500
TZOFFSETTO:-0600
TZNAME:CST
DTSTART:20251102T070000
END:STANDARD
END:VTIMEZONE
BEGIN:VTIMEZONE
TZID:Europe/Paris
BEGIN:DAYLIGHT
TZOFFSETFROM:+0100
TZOFFSETTO:+0200
TZNAME:CEST
DTSTART:20230326T010000
END:DAYLIGHT
BEGIN:STANDARD
TZOFFSETFROM:+0200
TZOFFSETTO:+0100
TZNAME:CET
DTSTART:20231029T010000
END:STANDARD
BEGIN:DAYLIGHT
TZOFFSETFROM:+0100
TZOFFSETTO:+0200
TZNAME:CEST
DTSTART:20240331T010000
END:DAYLIGHT
BEGIN:STANDARD
TZOFFSETFROM:+0200
TZOFFSETTO:+0100
TZNAME:CET
DTSTART:20241027T010000
END:STANDARD
BEGIN:DAYLIGHT
TZOFFSETFROM:+0100
TZOFFSETTO:+0200
TZNAME:CEST
DTSTART:20250330T010000
END:DAYLIGHT
BEGIN:STANDARD
TZOFFSETFROM:+0200
TZOFFSETTO:+0100
TZNAME:CET
DTSTART:20251026T010000
END:STANDARD
END:VTIMEZONE
BEGIN:VEVENT
DTSTART;TZID=America/New_York:20241208T180000
DTEND;TZID=America/New_York:20241208T203000
DTSTAMP:20260421T120851
CREATED:20241107T224036Z
LAST-MODIFIED:20241120T185919Z
UID:10000931-1733680800-1733689800@wargamefilm.com
SUMMARY:Pittsburgh PA
DESCRIPTION:Backyard Docs Film Fest
URL:https://wargamefilm.com/event/pittsburgh-pa/
LOCATION:Energy Innovation Center\, 1435 Bedford Ave\, Pittsburgh\, 15219\, United States
CATEGORIES:Festival,Panel
END:VEVENT
BEGIN:VEVENT
DTSTART;TZID=Europe/Amsterdam:20241124T124500
DTEND;TZID=Europe/Amsterdam:20241124T141500
DTSTAMP:20260421T120851
CREATED:20241107T162749Z
LAST-MODIFIED:20241107T162749Z
UID:10000930-1732452300-1732457700@wargamefilm.com
SUMMARY:Amsterdam NLD
DESCRIPTION:2024 International Documentary Film Festival Amsterdam
URL:https://wargamefilm.com/event/amsterdam-nld-2-2-2-2-2/
LOCATION:Koninklijk Theater Tuschinski\, eguliersbreestraat 26-34\, Amsterdam\, 1017 CN\, Netherlands
CATEGORIES:Festival
GEO:52.3665754121;4.89461599326
X-APPLE-STRUCTURED-LOCATION;VALUE=URI;X-ADDRESS=Koninklijk Theater Tuschinski eguliersbreestraat 26-34 Amsterdam 1017 CN Netherlands;X-APPLE-RADIUS=500;X-TITLE=eguliersbreestraat 26-34:geo:4.89461599326,52.3665754121
END:VEVENT
BEGIN:VEVENT
DTSTART;TZID=Europe/Amsterdam:20241122T180000
DTEND;TZID=Europe/Amsterdam:20241122T193000
DTSTAMP:20260421T120851
CREATED:20241107T162630Z
LAST-MODIFIED:20241107T162630Z
UID:10000929-1732298400-1732303800@wargamefilm.com
SUMMARY:Amsterdam NLD
DESCRIPTION:2024 International Documentary Film Festival Amsterdam
URL:https://wargamefilm.com/event/amsterdam-nld-2-2-2-2/
LOCATION:De Balie: Grote Zaal\, Kleine-Gartmanplantsoen 10\, Amsterdam\, 1017 RR\, Netherlands
CATEGORIES:Festival
GEO:52.3630727712;4.88303919153
X-APPLE-STRUCTURED-LOCATION;VALUE=URI;X-ADDRESS=De Balie: Grote Zaal Kleine-Gartmanplantsoen 10 Amsterdam 1017 RR Netherlands;X-APPLE-RADIUS=500;X-TITLE=Kleine-Gartmanplantsoen 10:geo:4.88303919153,52.3630727712
END:VEVENT
BEGIN:VEVENT
DTSTART;TZID=Europe/Amsterdam:20241120T113000
DTEND;TZID=Europe/Amsterdam:20241120T130000
DTSTAMP:20260421T120851
CREATED:20241107T162056Z
LAST-MODIFIED:20241107T162056Z
UID:10000928-1732102200-1732107600@wargamefilm.com
SUMMARY:Amsterdam NLD
DESCRIPTION:2024 International Documentary Film Festival Amsterdam
URL:https://wargamefilm.com/event/amsterdam-nld-2-2-2/
LOCATION:De Balie: Grote Zaal\, Kleine-Gartmanplantsoen 10\, Amsterdam\, 1017 RR\, Netherlands
CATEGORIES:Festival
GEO:52.3630727712;4.88303919153
X-APPLE-STRUCTURED-LOCATION;VALUE=URI;X-ADDRESS=De Balie: Grote Zaal Kleine-Gartmanplantsoen 10 Amsterdam 1017 RR Netherlands;X-APPLE-RADIUS=500;X-TITLE=Kleine-Gartmanplantsoen 10:geo:4.88303919153,52.3630727712
END:VEVENT
BEGIN:VEVENT
DTSTART;TZID=Europe/Amsterdam:20241119T150000
DTEND;TZID=Europe/Amsterdam:20241119T163000
DTSTAMP:20260421T120851
CREATED:20241107T161737Z
LAST-MODIFIED:20241107T161737Z
UID:10000927-1732028400-1732033800@wargamefilm.com
SUMMARY:Amsterdam NLD
DESCRIPTION:2024 International Documentary Film Festival Amsterdam
URL:https://wargamefilm.com/event/amsterdam-nld-2-2/
LOCATION:Pathé City Theater\, Kleine-Gartmanplantsoen 15-19\, Amsterdam\, 1017 RP\, Netherlands
CATEGORIES:Festival
END:VEVENT
BEGIN:VEVENT
DTSTART;TZID=Europe/Amsterdam:20241116T180000
DTEND;TZID=Europe/Amsterdam:20241116T193000
DTSTAMP:20260421T120851
CREATED:20241107T161628Z
LAST-MODIFIED:20241107T161628Z
UID:10000926-1731780000-1731785400@wargamefilm.com
SUMMARY:Amsterdam NLD
DESCRIPTION:2024 International Documentary Film Festival Amsterdam
URL:https://wargamefilm.com/event/amsterdam-nld-2/
LOCATION:Pathé City Theater\, Kleine-Gartmanplantsoen 15-19\, Amsterdam\, 1017 RP\, Netherlands
CATEGORIES:Festival
END:VEVENT
BEGIN:VEVENT
DTSTART;TZID=Europe/Amsterdam:20241115T180000
DTEND;TZID=Europe/Amsterdam:20241115T193000
DTSTAMP:20260421T120851
CREATED:20241107T161138Z
LAST-MODIFIED:20241107T161138Z
UID:10000925-1731693600-1731699000@wargamefilm.com
SUMMARY:Amsterdam NLD
DESCRIPTION:2024 International Documentary Film Festival Amsterdam
URL:https://wargamefilm.com/event/amsterdam-nld/
LOCATION:Koninklijk Theater Tuschinski\, eguliersbreestraat 26-34\, Amsterdam\, 1017 CN\, Netherlands
CATEGORIES:Festival
GEO:52.3665754121;4.89461599326
X-APPLE-STRUCTURED-LOCATION;VALUE=URI;X-ADDRESS=Koninklijk Theater Tuschinski eguliersbreestraat 26-34 Amsterdam 1017 CN Netherlands;X-APPLE-RADIUS=500;X-TITLE=eguliersbreestraat 26-34:geo:4.89461599326,52.3665754121
END:VEVENT
BEGIN:VEVENT
DTSTART;TZID=Europe/Warsaw:20241109T131500
DTEND;TZID=Europe/Warsaw:20241109T144500
DTSTAMP:20260421T120851
CREATED:20241107T160512Z
LAST-MODIFIED:20241107T160512Z
UID:10000924-1731158100-1731163500@wargamefilm.com
SUMMARY:Warsaw POL
DESCRIPTION:American Film Festival
URL:https://wargamefilm.com/event/warsaw-pol-2/
LOCATION:New Horizons Cinema\, Kazimierza Wielkiego 19a/21\, Warsaw\, 50-077\, Poland
CATEGORIES:Festival
GEO:51.1095255962;17.0264248901
X-APPLE-STRUCTURED-LOCATION;VALUE=URI;X-ADDRESS=New Horizons Cinema Kazimierza Wielkiego 19a/21 Warsaw 50-077 Poland;X-APPLE-RADIUS=500;X-TITLE=Kazimierza Wielkiego 19a/21:geo:17.0264248901,51.1095255962
END:VEVENT
BEGIN:VEVENT
DTSTART;TZID=Europe/Warsaw:20241107T153000
DTEND;TZID=Europe/Warsaw:20241107T170000
DTSTAMP:20260421T120851
CREATED:20241107T160330Z
LAST-MODIFIED:20241107T160330Z
UID:10000923-1730993400-1730998800@wargamefilm.com
SUMMARY:Warsaw POL
DESCRIPTION:American Film Festival
URL:https://wargamefilm.com/event/warsaw-pol/
LOCATION:New Horizons Cinema\, Kazimierza Wielkiego 19a/21\, Warsaw\, 50-077\, Poland
CATEGORIES:Festival
GEO:51.1095255962;17.0264248901
X-APPLE-STRUCTURED-LOCATION;VALUE=URI;X-ADDRESS=New Horizons Cinema Kazimierza Wielkiego 19a/21 Warsaw 50-077 Poland;X-APPLE-RADIUS=500;X-TITLE=Kazimierza Wielkiego 19a/21:geo:17.0264248901,51.1095255962
END:VEVENT
BEGIN:VEVENT
DTSTART;TZID=America/Chicago:20240927T193000
DTEND;TZID=America/Chicago:20240927T213000
DTSTAMP:20260421T120851
CREATED:20240906T173131Z
LAST-MODIFIED:20240906T173131Z
UID:10000880-1727465400-1727472600@wargamefilm.com
SUMMARY:Milwaukee WI
DESCRIPTION:
URL:https://wargamefilm.com/event/milwaukee-wi/
LOCATION:Dialogues Documentary Festival – The Oriental Theatre\, 2230 N Farwell Ave\, Milwaukee\, WI\, 53202\, United States
CATEGORIES:Festival
END:VEVENT
BEGIN:VEVENT
DTSTART;TZID=America/New_York:20240720T190000
DTEND;TZID=America/New_York:20240720T190000
DTSTAMP:20260421T120851
CREATED:20240523T213707Z
LAST-MODIFIED:20240709T213907Z
UID:10000015-1721502000-1721502000@wargamefilm.com
SUMMARY:Hamptons SummerDocs Series
DESCRIPTION:
URL:https://wargamefilm.com/event/hamptons-summerdocs-series/
LOCATION:East Hampton United Artist Theater\, 30-38 Main St\, East Hampton\, NY\, 11937\, United States
CATEGORIES:Festival,Panel
END:VEVENT
BEGIN:VEVENT
DTSTART;TZID=America/New_York:20240620T150000
DTEND;TZID=America/New_York:20240620T150000
DTSTAMP:20260421T120851
CREATED:20240523T213515Z
LAST-MODIFIED:20240709T212857Z
UID:10000014-1718895600-1718895600@wargamefilm.com
SUMMARY:Nantucket Film Festival
DESCRIPTION:Screening and Panel
URL:https://wargamefilm.com/event/nantucket-film-festival/
LOCATION:White Heron Theater\, 5 N Water St\, Nantucket\, MA\, 02554\, United States
CATEGORIES:Festival
END:VEVENT
BEGIN:VEVENT
DTSTART;TZID=America/New_York:20240614T120000
DTEND;TZID=America/New_York:20240614T150000
DTSTAMP:20260421T120851
CREATED:20240405T152914Z
LAST-MODIFIED:20240709T212852Z
UID:10000010-1718366400-1718377200@wargamefilm.com
SUMMARY:DC/DOX – Washington\, DC
DESCRIPTION:Screening
URL:https://wargamefilm.com/event/dc-dox-washington-dc/
LOCATION:Navy Memorial – Burke Theatre\, 701 Pennsylvania Avenue NW\, Washington\, DC\, 20004\, United States
CATEGORIES:Festival
END:VEVENT
BEGIN:VEVENT
DTSTART;TZID=America/New_York:20240530T210000
DTEND;TZID=America/New_York:20240530T210000
DTSTAMP:20260421T120851
CREATED:20240405T152817Z
LAST-MODIFIED:20240709T212821Z
UID:10000008-1717102800-1717102800@wargamefilm.com
SUMMARY:Rooftop Films – Brooklyn\, NYC
DESCRIPTION:Screening and Panel \n\n8:00 PM Doors Open\n\n\n9:00 PM Film Begins\n\n\n10:30 PM Q&A\n\n\n10:45 PM After-Party
URL:https://wargamefilm.com/event/rooftop-films-brooklyn-nyc/
LOCATION:The Old American Can Factory\, E-106\, 232 3rd St.\, Brooklyn\, NY\, 11215\, United States
CATEGORIES:Festival
END:VEVENT
BEGIN:VEVENT
DTSTART;TZID=Europe/Paris:20240517T090000
DTEND;TZID=Europe/Paris:20240517T090000
DTSTAMP:20260421T120851
CREATED:20240508T145257Z
LAST-MODIFIED:20240709T212813Z
UID:10000013-1715936400-1715936400@wargamefilm.com
SUMMARY:Market Screening - Cannes
DESCRIPTION:
URL:https://wargamefilm.com/event/market-screening-cannes/
LOCATION:Cinema Olympia\, 5 Rue de la Pompe\,\, 06400 Cannes\, France
CATEGORIES:Festival
END:VEVENT
BEGIN:VEVENT
DTSTART;VALUE=DATE:20240514
DTEND;VALUE=DATE:20240526
DTSTAMP:20260421T120851
CREATED:20240405T152720Z
LAST-MODIFIED:20240709T212808Z
UID:10000007-1715644800-1716681599@wargamefilm.com
SUMMARY:Impact Films Panel – Cannes
DESCRIPTION:Panel Only
URL:https://wargamefilm.com/event/cannes-film-festival-cannes-france/
LOCATION:Plages des Palmes\, Marche du Film venue\, Cannes\, France
CATEGORIES:Festival
END:VEVENT
BEGIN:VEVENT
DTSTART;VALUE=DATE:20240505
DTEND;VALUE=DATE:20240506
DTSTAMP:20260421T120851
CREATED:20240405T152343Z
LAST-MODIFIED:20240807T014324Z
UID:10000005-1714867200-1714953599@wargamefilm.com
SUMMARY:Doc10 Film Festival – Chicago\, IL
DESCRIPTION:Screening and Panel
URL:https://wargamefilm.com/event/doc10-film-festival-chicago-il/
LOCATION:Davis Theater\, Chicago\, 4614 N Lincoln Ave\, Chicago\, 60625\, United States
CATEGORIES:Festival
END:VEVENT
BEGIN:VEVENT
DTSTART;VALUE=DATE:20240314
DTEND;VALUE=DATE:20240315
DTSTAMP:20260421T120851
CREATED:20240418T224930Z
LAST-MODIFIED:20240709T212741Z
UID:10000012-1710374400-1710460799@wargamefilm.com
SUMMARY:2023 CPH:DOX
DESCRIPTION:Screening
URL:https://wargamefilm.com/event/2023-cphdox/
LOCATION:Grand Theater\, Mikkel Bryggers Gade 8\, 1460 København K
CATEGORIES:Festival
END:VEVENT
BEGIN:VEVENT
DTSTART;VALUE=DATE:20240123
DTEND;VALUE=DATE:20240124
DTSTAMP:20260421T120851
CREATED:20240418T224713Z
LAST-MODIFIED:20240709T212732Z
UID:10000011-1705968000-1706054399@wargamefilm.com
SUMMARY:2024 Sundance Film Festival - Park City\, Utah
DESCRIPTION:Screening and Panel
URL:https://wargamefilm.com/event/2024-sundance-film-festival-park-city-utah/
LOCATION:Prospector Square Theater\, 2175 Sidewinder Dr\, Park City\, UT\, 84060\, United States
CATEGORIES:Festival
END:VEVENT
END:VCALENDAR