BEGIN:VCALENDAR
VERSION:2.0
PRODID:-//War Game - ECPv6.15.20//NONSGML v1.0//EN
CALSCALE:GREGORIAN
METHOD:PUBLISH
X-WR-CALNAME:War Game
X-ORIGINAL-URL:https://wargamefilm.com
X-WR-CALDESC:Events for War Game
REFRESH-INTERVAL;VALUE=DURATION:PT1H
X-Robots-Tag:noindex
X-PUBLISHED-TTL:PT1H
BEGIN:VTIMEZONE
TZID:America/New_York
BEGIN:DAYLIGHT
TZOFFSETFROM:-0500
TZOFFSETTO:-0400
TZNAME:EDT
DTSTART:20230312T070000
END:DAYLIGHT
BEGIN:STANDARD
TZOFFSETFROM:-0400
TZOFFSETTO:-0500
TZNAME:EST
DTSTART:20231105T060000
END:STANDARD
BEGIN:DAYLIGHT
TZOFFSETFROM:-0500
TZOFFSETTO:-0400
TZNAME:EDT
DTSTART:20240310T070000
END:DAYLIGHT
BEGIN:STANDARD
TZOFFSETFROM:-0400
TZOFFSETTO:-0500
TZNAME:EST
DTSTART:20241103T060000
END:STANDARD
BEGIN:DAYLIGHT
TZOFFSETFROM:-0500
TZOFFSETTO:-0400
TZNAME:EDT
DTSTART:20250309T070000
END:DAYLIGHT
BEGIN:STANDARD
TZOFFSETFROM:-0400
TZOFFSETTO:-0500
TZNAME:EST
DTSTART:20251102T060000
END:STANDARD
END:VTIMEZONE
BEGIN:VTIMEZONE
TZID:Europe/London
BEGIN:DAYLIGHT
TZOFFSETFROM:+0000
TZOFFSETTO:+0100
TZNAME:BST
DTSTART:20230326T010000
END:DAYLIGHT
BEGIN:STANDARD
TZOFFSETFROM:+0100
TZOFFSETTO:+0000
TZNAME:GMT
DTSTART:20231029T010000
END:STANDARD
BEGIN:DAYLIGHT
TZOFFSETFROM:+0000
TZOFFSETTO:+0100
TZNAME:BST
DTSTART:20240331T010000
END:DAYLIGHT
BEGIN:STANDARD
TZOFFSETFROM:+0100
TZOFFSETTO:+0000
TZNAME:GMT
DTSTART:20241027T010000
END:STANDARD
BEGIN:DAYLIGHT
TZOFFSETFROM:+0000
TZOFFSETTO:+0100
TZNAME:BST
DTSTART:20250330T010000
END:DAYLIGHT
BEGIN:STANDARD
TZOFFSETFROM:+0100
TZOFFSETTO:+0000
TZNAME:GMT
DTSTART:20251026T010000
END:STANDARD
END:VTIMEZONE
BEGIN:VTIMEZONE
TZID:America/Denver
BEGIN:DAYLIGHT
TZOFFSETFROM:-0700
TZOFFSETTO:-0600
TZNAME:MDT
DTSTART:20230312T090000
END:DAYLIGHT
BEGIN:STANDARD
TZOFFSETFROM:-0600
TZOFFSETTO:-0700
TZNAME:MST
DTSTART:20231105T080000
END:STANDARD
BEGIN:DAYLIGHT
TZOFFSETFROM:-0700
TZOFFSETTO:-0600
TZNAME:MDT
DTSTART:20240310T090000
END:DAYLIGHT
BEGIN:STANDARD
TZOFFSETFROM:-0600
TZOFFSETTO:-0700
TZNAME:MST
DTSTART:20241103T080000
END:STANDARD
BEGIN:DAYLIGHT
TZOFFSETFROM:-0700
TZOFFSETTO:-0600
TZNAME:MDT
DTSTART:20250309T090000
END:DAYLIGHT
BEGIN:STANDARD
TZOFFSETFROM:-0600
TZOFFSETTO:-0700
TZNAME:MST
DTSTART:20251102T080000
END:STANDARD
END:VTIMEZONE
BEGIN:VTIMEZONE
TZID:America/Los_Angeles
BEGIN:DAYLIGHT
TZOFFSETFROM:-0800
TZOFFSETTO:-0700
TZNAME:PDT
DTSTART:20230312T100000
END:DAYLIGHT
BEGIN:STANDARD
TZOFFSETFROM:-0700
TZOFFSETTO:-0800
TZNAME:PST
DTSTART:20231105T090000
END:STANDARD
BEGIN:DAYLIGHT
TZOFFSETFROM:-0800
TZOFFSETTO:-0700
TZNAME:PDT
DTSTART:20240310T100000
END:DAYLIGHT
BEGIN:STANDARD
TZOFFSETFROM:-0700
TZOFFSETTO:-0800
TZNAME:PST
DTSTART:20241103T090000
END:STANDARD
BEGIN:DAYLIGHT
TZOFFSETFROM:-0800
TZOFFSETTO:-0700
TZNAME:PDT
DTSTART:20250309T100000
END:DAYLIGHT
BEGIN:STANDARD
TZOFFSETFROM:-0700
TZOFFSETTO:-0800
TZNAME:PST
DTSTART:20251102T090000
END:STANDARD
END:VTIMEZONE
BEGIN:VTIMEZONE
TZID:America/Chicago
BEGIN:DAYLIGHT
TZOFFSETFROM:-0600
TZOFFSETTO:-0500
TZNAME:CDT
DTSTART:20230312T080000
END:DAYLIGHT
BEGIN:STANDARD
TZOFFSETFROM:-0500
TZOFFSETTO:-0600
TZNAME:CST
DTSTART:20231105T070000
END:STANDARD
BEGIN:DAYLIGHT
TZOFFSETFROM:-0600
TZOFFSETTO:-0500
TZNAME:CDT
DTSTART:20240310T080000
END:DAYLIGHT
BEGIN:STANDARD
TZOFFSETFROM:-0500
TZOFFSETTO:-0600
TZNAME:CST
DTSTART:20241103T070000
END:STANDARD
BEGIN:DAYLIGHT
TZOFFSETFROM:-0600
TZOFFSETTO:-0500
TZNAME:CDT
DTSTART:20250309T080000
END:DAYLIGHT
BEGIN:STANDARD
TZOFFSETFROM:-0500
TZOFFSETTO:-0600
TZNAME:CST
DTSTART:20251102T070000
END:STANDARD
END:VTIMEZONE
BEGIN:VEVENT
DTSTART;TZID=America/New_York:20241002T170000
DTEND;TZID=America/New_York:20241002T193000
DTSTAMP:20260423T064605
CREATED:20240906T150229Z
LAST-MODIFIED:20240906T150229Z
UID:10000844-1727888400-1727897400@wargamefilm.com
SUMMARY:Fredericksburg VA
DESCRIPTION:Come join us for a thrilling evening at the Central Rappahannock Regional Library Howell Branch! We will be screening the Sundance documentary ‘WAR GAME’ followed by a panel discussion with National Security practitioners and experts. Get ready for an insightful discussion and compelling film experience. Bring your questions and be ready to engage your fellow citizens in an evening of thoughful discussion.
URL:https://wargamefilm.com/event/fredericksburg-va/
LOCATION:Central Rappahannock Regional Library Howell Branch\, 806 Lyons Boulevard\, Fredericksburg\, VA\, 22406\, United States
CATEGORIES:Panel,Public Screening
END:VEVENT
BEGIN:VEVENT
DTSTART;TZID=Europe/London:20240930T190000
DTEND;TZID=Europe/London:20240930T203000
DTSTAMP:20260423T064605
CREATED:20240910T204535Z
LAST-MODIFIED:20240910T204535Z
UID:10000881-1727722800-1727728200@wargamefilm.com
SUMMARY:London UK with Q&A
DESCRIPTION:Post-film Q&A with Tony Gerber and Orlando von Einsiedel.
URL:https://wargamefilm.com/event/london-uk-with-qa/
LOCATION:Frontline Club\, 13 Norfolk Place\, London\, W2 1QJ\, United Kingdom
CATEGORIES:Panel,Public Screening
END:VEVENT
BEGIN:VEVENT
DTSTART;TZID=America/New_York:20240925T183000
DTEND;TZID=America/New_York:20240925T210000
DTSTAMP:20260423T064605
CREATED:20240912T182733Z
LAST-MODIFIED:20240912T182754Z
UID:10000882-1727289000-1727298000@wargamefilm.com
SUMMARY:Durham NC with Q&A
DESCRIPTION:
URL:https://wargamefilm.com/event/durham-nc/
LOCATION:Griffith Film Theater\, 125 Science Drive\, Durham\, NC\, 27710\, United States
CATEGORIES:Panel,Public Screening
END:VEVENT
BEGIN:VEVENT
DTSTART;TZID=America/New_York:20240925T180000
DTEND;TZID=America/New_York:20240925T210000
DTSTAMP:20260423T064605
CREATED:20240705T200857Z
LAST-MODIFIED:20240812T171624Z
UID:10000028-1727287200-1727298000@wargamefilm.com
SUMMARY:Lehigh Valley PA
DESCRIPTION:
URL:https://wargamefilm.com/event/lehigh-valley-pennsylvania/
LOCATION:Emmaus Theater\, 19 South 4th Street\, Emmaus\, PA\, 18049\, United States
CATEGORIES:Panel,Public Screening
END:VEVENT
BEGIN:VEVENT
DTSTART;TZID=America/Denver:20240920T190000
DTEND;TZID=America/Denver:20240920T223000
DTSTAMP:20260423T064605
CREATED:20240808T232216Z
LAST-MODIFIED:20240913T191524Z
UID:10000570-1726858800-1726871400@wargamefilm.com
SUMMARY:Helena MT with Q&A
DESCRIPTION:
URL:https://wargamefilm.com/event/helena-mt/
LOCATION:The Myrna Loy\, 15 N Ewing St\, Helena\, MT\, 59601\, United States
CATEGORIES:Panel,Public Screening
END:VEVENT
BEGIN:VEVENT
DTSTART;TZID=America/New_York:20240920T180000
DTEND;TZID=America/New_York:20240920T200000
DTSTAMP:20260423T064605
CREATED:20240809T172428Z
LAST-MODIFIED:20240906T172340Z
UID:10000576-1726855200-1726862400@wargamefilm.com
SUMMARY:Fairfield CT with Q&A
DESCRIPTION:Film will be followed by a discussion moderated by Ebong Udoma with panelists Gary Rose\, Charlie Gillespie\, Todd Matthews\, and Bill Yousman.
URL:https://wargamefilm.com/event/fairfield-ct/
LOCATION:SHU Fairfield Community Theatre\, 1420 Post Rd\, Fairfield\, CT\, 06824\, United States
CATEGORIES:Panel,Public Screening
END:VEVENT
BEGIN:VEVENT
DTSTART;TZID=America/Denver:20240920T160000
DTEND;TZID=America/Denver:20240920T183000
DTSTAMP:20260423T064605
CREATED:20240913T191258Z
LAST-MODIFIED:20240913T191521Z
UID:10000883-1726848000-1726857000@wargamefilm.com
SUMMARY:Helena MT with Q&A
DESCRIPTION:
URL:https://wargamefilm.com/event/helena-mt-with-qa/
LOCATION:The Myrna Loy\, 15 N Ewing St\, Helena\, MT\, 59601\, United States
CATEGORIES:Panel,Public Screening
END:VEVENT
BEGIN:VEVENT
DTSTART;TZID=America/New_York:20240919T190000
DTEND;TZID=America/New_York:20240919T213000
DTSTAMP:20260423T064605
CREATED:20240829T022237Z
LAST-MODIFIED:20240829T022237Z
UID:10000820-1726772400-1726781400@wargamefilm.com
SUMMARY:New York NY with Q&A
DESCRIPTION:PANEL FEATURING CO-DIRECTOR TONY GERBER TO FOLLOW
URL:https://wargamefilm.com/event/new-york-ny-with-qa/
LOCATION:Macaulay Honors College\, 35 West 67th Street\, New York\, NY\, 10023\, United States
CATEGORIES:Panel,Public Screening
END:VEVENT
BEGIN:VEVENT
DTSTART;TZID=America/Denver:20240911T190000
DTEND;TZID=America/Denver:20240911T213000
DTSTAMP:20260423T064605
CREATED:20240809T173431Z
LAST-MODIFIED:20240829T021818Z
UID:10000580-1726081200-1726090200@wargamefilm.com
SUMMARY:Boulder CO with Q&A
DESCRIPTION:Cinema Club Conversations: War Game \nJoin us for the first in our series of “Cinema Club Conversations” \nImmediately following the screening\, join us in the Vandeveer workshop for a discussion facilitated by the Dairy Arts Center staff and programming committee. \nPizza & soda provided!
URL:https://wargamefilm.com/event/boulder-co/
LOCATION:Boedecker Theater – Dairy Arts Center\, Boedecker Theater - Dairy Arts Center\, Boulder\, CO\, 80302\, United States
CATEGORIES:Panel,Theatrical
END:VEVENT
BEGIN:VEVENT
DTSTART;TZID=America/New_York:20240906T120000
DTEND;TZID=America/New_York:20240906T150000
DTSTAMP:20260423T064605
CREATED:20240705T191950Z
LAST-MODIFIED:20240807T183046Z
UID:10000026-1725624000-1725634800@wargamefilm.com
SUMMARY:Philadelphia PA
DESCRIPTION:American Political Science Association Conference
URL:https://wargamefilm.com/event/american-political-science-association-conference/
LOCATION:Philadelphia Convention Center Screening Room\, 1101 Arch Street\, Philadelphia\, PA\, 19107\, United States
CATEGORIES:Panel,Public Screening
END:VEVENT
BEGIN:VEVENT
DTSTART;TZID=America/Los_Angeles:20240904T193000
DTEND;TZID=America/Los_Angeles:20240904T210000
DTSTAMP:20260423T064605
CREATED:20240829T014442Z
LAST-MODIFIED:20240829T014442Z
UID:10000761-1725478200-1725483600@wargamefilm.com
SUMMARY:Santa Monica CA with Q&A
DESCRIPTION:War Game director Jesse Moss will participate in a Q&A after the September 4 screening at the Monica Film Center.
URL:https://wargamefilm.com/event/santa-monica-ca-with-qa/
LOCATION:Laemmle Monica Film Center\, 1332 2nd Street\, Santa Monica\, CA\, 90401\, United States
CATEGORIES:Panel,Theatrical
END:VEVENT
BEGIN:VEVENT
DTSTART;TZID=America/Chicago:20240901T153000
DTEND;TZID=America/Chicago:20240901T170000
DTSTAMP:20260423T064605
CREATED:20240828T210920Z
LAST-MODIFIED:20240828T210920Z
UID:10000692-1725204600-1725210000@wargamefilm.com
SUMMARY:Austin TX with Q&A
DESCRIPTION:Live Q&A with the cast & crew\n\n\nSave your seat for a special screening of WAR GAME\, a documentary that follows real-life former senior officials as they war game how to handle a potential insurrection following a presidential election. Stick around after the screening for an in-person Q&A with filmmaker Tony Gerber\, producer Mark DiCristofaro\, and Hon. Gina Ortiz Jones\, 27th Under Secretary of the Air Force\, moderated by Austin-based filmmaker Stephen Ohl.
URL:https://wargamefilm.com/event/alamo-drafthouse-south-lamar-2-2/
LOCATION:Alamo Drafthouse (South Lamar)\, 1120 S Lamar Blvd\, Austin\, TX\, 78704\, United States
CATEGORIES:Panel,Theatrical
END:VEVENT
BEGIN:VEVENT
DTSTART;TZID=America/New_York:20240901T151500
DTEND;TZID=America/New_York:20240901T170000
DTSTAMP:20260423T064605
CREATED:20240828T201749Z
LAST-MODIFIED:20240828T202533Z
UID:10000660-1725203700-1725210000@wargamefilm.com
SUMMARY:Washington DC with Q&A
DESCRIPTION:Maj. Gen. (ret.) Linda Singh will appear in person at Landmark’s E Street Cinema on Friday\, August 30 for a Q&A after the 7:00pm show\, and on Sunday\, September 1 for a Q&A after the 3:15pm show.
URL:https://wargamefilm.com/event/washington-dc-2-3/
LOCATION:Landmark E Street Cinema\, 555 11th St NW\, Washington\, DC\, 20004\, United States
CATEGORIES:Panel,Theatrical
END:VEVENT
BEGIN:VEVENT
DTSTART;TZID=America/New_York:20240831T193000
DTEND;TZID=America/New_York:20240831T210000
DTSTAMP:20260423T064605
CREATED:20240828T204001Z
LAST-MODIFIED:20240828T204001Z
UID:10000678-1725132600-1725138000@wargamefilm.com
SUMMARY:Brookline (Boston) MA
DESCRIPTION:Filmmaker Tony Gerber will be on hand for a post-screening Q&A following the 7:15pm show on Friday\, August 30!
URL:https://wargamefilm.com/event/brookline-ma-4/
LOCATION:Coolidge Corner Theatre\, 290 Harvard St\, Brookline (Boston)\, MA\, 02446\, United States
CATEGORIES:Panel,Theatrical
END:VEVENT
BEGIN:VEVENT
DTSTART;TZID=America/Chicago:20240831T144500
DTEND;TZID=America/Chicago:20240831T160000
DTSTAMP:20260423T064605
CREATED:20240828T210820Z
LAST-MODIFIED:20240828T210820Z
UID:10000691-1725115500-1725120000@wargamefilm.com
SUMMARY:Austin TX with Q&A
DESCRIPTION:Live Q&A with the cast & crew\n\n\nSave your seat for a special screening of WAR GAME\, a documentary that follows real-life former senior officials as they war game how to handle a potential insurrection following a presidential election. Stick around after the screening for an in-person Q&A with filmmaker Tony Gerber\, producer Mark DiCristofaro\, and Hon. Gina Ortiz Jones\, 27th Under Secretary of the Air Force\, moderated by Austin-based filmmaker Stephen Ohl.
URL:https://wargamefilm.com/event/alamo-drafthouse-south-lamar-2/
LOCATION:Alamo Drafthouse (South Lamar)\, 1120 S Lamar Blvd\, Austin\, TX\, 78704\, United States
CATEGORIES:Panel,Theatrical
END:VEVENT
BEGIN:VEVENT
DTSTART;TZID=America/New_York:20240830T191500
DTEND;TZID=America/New_York:20240830T210000
DTSTAMP:20260423T064605
CREATED:20240814T220738Z
LAST-MODIFIED:20240828T203750Z
UID:10000601-1725045300-1725051600@wargamefilm.com
SUMMARY:Brookline (Boston) MA with Q&A
DESCRIPTION:Filmmaker Tony Gerber will be on hand for a post-screening Q&A following the 7:15pm show on Friday\, August 30!
URL:https://wargamefilm.com/event/brookline-ma/
LOCATION:Coolidge Corner Theatre\, 290 Harvard St\, Brookline (Boston)\, MA\, 02446\, United States
CATEGORIES:Panel,Theatrical
END:VEVENT
BEGIN:VEVENT
DTSTART;TZID=America/New_York:20240830T190000
DTEND;TZID=America/New_York:20240830T203000
DTSTAMP:20260423T064605
CREATED:20240828T201554Z
LAST-MODIFIED:20240828T201554Z
UID:10000657-1725044400-1725049800@wargamefilm.com
SUMMARY:Washington DC with Q&A
DESCRIPTION:Maj. Gen. (ret.) Linda Singh will appear in person at Landmark’s E Street Cinema on Friday\, August 30 for a Q&A after the 7:00pm show. She’ll be joined by former FBI Special Agent Peter Strzok & former U.S. Senator Doug Jones\, moderated by author & former CIA intelligence officer David Priess.
URL:https://wargamefilm.com/event/washington-dc-2-2/
LOCATION:Landmark E Street Cinema\, 555 11th St NW\, Washington\, DC\, 20004\, United States
CATEGORIES:Panel,Theatrical
END:VEVENT
BEGIN:VEVENT
DTSTART;TZID=America/Chicago:20240819T150000
DTEND;TZID=America/Chicago:20240819T150000
DTSTAMP:20260423T064605
CREATED:20240806T234417Z
LAST-MODIFIED:20240807T183131Z
UID:10000497-1724079600-1724079600@wargamefilm.com
SUMMARY:Chicago IL
DESCRIPTION:Dialogue: Retired United States Army lieutenant colonel and former Director for European Affairs for the United States National Security Council Alexander Vindman\, United States Senator Heidi Heitkamp\, United States Senator Doug Jones\, and Fmr. Governor of Montana Steve Bullock in conversation.
URL:https://wargamefilm.com/event/gene-siskel-film-center-chicago-3/
LOCATION:Gene Siskel Film Center\, 164 N State St\, Chicago\, IL\, 60601\, United States
CATEGORIES:Panel,Screening during Democratic National Convention
END:VEVENT
BEGIN:VEVENT
DTSTART;TZID=America/Chicago:20240819T130000
DTEND;TZID=America/Chicago:20240819T130000
DTSTAMP:20260423T064605
CREATED:20240729T201636Z
LAST-MODIFIED:20240807T183137Z
UID:10000427-1724072400-1724072400@wargamefilm.com
SUMMARY:Chicago IL
DESCRIPTION:Dialogue: Retired United States Army lieutenant colonel and former Director for European Affairs for the United States National Security Council Alexander Vindman\, United States Senator Heidi Heitkamp\, United States Senator Doug Jones\, and Fmr. Governor of Montana Steve Bullock in conversation.
URL:https://wargamefilm.com/event/gene-siskel-film-center-chicago/
LOCATION:Gene Siskel Film Center\, 164 N State St\, Chicago\, IL\, 60601\, United States
CATEGORIES:Panel,Screening during Democratic National Convention
END:VEVENT
BEGIN:VEVENT
DTSTART;VALUE=DATE:20240725
DTEND;VALUE=DATE:20240726
DTSTAMP:20260423T064605
CREATED:20240705T191743Z
LAST-MODIFIED:20240709T213907Z
UID:10000025-1721865600-1721951999@wargamefilm.com
SUMMARY:Renew America Together Conference - Little Rock
DESCRIPTION:
URL:https://wargamefilm.com/event/renew-america-together-conference-little-rock/
LOCATION:DoubleTree Hotel\, 424 W Markham St\, Little Rock\, AR\, 72201\, United States
CATEGORIES:Panel,Public Screening
END:VEVENT
BEGIN:VEVENT
DTSTART;TZID=America/New_York:20240720T190000
DTEND;TZID=America/New_York:20240720T190000
DTSTAMP:20260423T064605
CREATED:20240523T213707Z
LAST-MODIFIED:20240709T213907Z
UID:10000015-1721502000-1721502000@wargamefilm.com
SUMMARY:Hamptons SummerDocs Series
DESCRIPTION:
URL:https://wargamefilm.com/event/hamptons-summerdocs-series/
LOCATION:East Hampton United Artist Theater\, 30-38 Main St\, East Hampton\, NY\, 11937\, United States
CATEGORIES:Festival,Panel
END:VEVENT
BEGIN:VEVENT
DTSTART;VALUE=DATE:20240531
DTEND;VALUE=DATE:20240601
DTSTAMP:20260423T064605
CREATED:20240405T152848Z
LAST-MODIFIED:20240709T212846Z
UID:10000009-1717113600-1717199999@wargamefilm.com
SUMMARY:TruCon2024 – Washington\, DC
DESCRIPTION:Panel Only
URL:https://wargamefilm.com/event/trucon2024-washington-dc/
LOCATION:NC
CATEGORIES:Panel
END:VEVENT
END:VCALENDAR