BEGIN:VCALENDAR
VERSION:2.0
PRODID:-//War Game - ECPv6.15.20//NONSGML v1.0//EN
CALSCALE:GREGORIAN
METHOD:PUBLISH
X-ORIGINAL-URL:https://wargamefilm.com
X-WR-CALDESC:Events for War Game
REFRESH-INTERVAL;VALUE=DURATION:PT1H
X-Robots-Tag:noindex
X-PUBLISHED-TTL:PT1H
BEGIN:VTIMEZONE
TZID:America/Phoenix
BEGIN:STANDARD
TZOFFSETFROM:-0700
TZOFFSETTO:-0700
TZNAME:MST
DTSTART:20230101T000000
END:STANDARD
END:VTIMEZONE
BEGIN:VTIMEZONE
TZID:America/Los_Angeles
BEGIN:DAYLIGHT
TZOFFSETFROM:-0800
TZOFFSETTO:-0700
TZNAME:PDT
DTSTART:20230312T100000
END:DAYLIGHT
BEGIN:STANDARD
TZOFFSETFROM:-0700
TZOFFSETTO:-0800
TZNAME:PST
DTSTART:20231105T090000
END:STANDARD
BEGIN:DAYLIGHT
TZOFFSETFROM:-0800
TZOFFSETTO:-0700
TZNAME:PDT
DTSTART:20240310T100000
END:DAYLIGHT
BEGIN:STANDARD
TZOFFSETFROM:-0700
TZOFFSETTO:-0800
TZNAME:PST
DTSTART:20241103T090000
END:STANDARD
BEGIN:DAYLIGHT
TZOFFSETFROM:-0800
TZOFFSETTO:-0700
TZNAME:PDT
DTSTART:20250309T100000
END:DAYLIGHT
BEGIN:STANDARD
TZOFFSETFROM:-0700
TZOFFSETTO:-0800
TZNAME:PST
DTSTART:20251102T090000
END:STANDARD
END:VTIMEZONE
BEGIN:VTIMEZONE
TZID:America/Chicago
BEGIN:DAYLIGHT
TZOFFSETFROM:-0600
TZOFFSETTO:-0500
TZNAME:CDT
DTSTART:20230312T080000
END:DAYLIGHT
BEGIN:STANDARD
TZOFFSETFROM:-0500
TZOFFSETTO:-0600
TZNAME:CST
DTSTART:20231105T070000
END:STANDARD
BEGIN:DAYLIGHT
TZOFFSETFROM:-0600
TZOFFSETTO:-0500
TZNAME:CDT
DTSTART:20240310T080000
END:DAYLIGHT
BEGIN:STANDARD
TZOFFSETFROM:-0500
TZOFFSETTO:-0600
TZNAME:CST
DTSTART:20241103T070000
END:STANDARD
BEGIN:DAYLIGHT
TZOFFSETFROM:-0600
TZOFFSETTO:-0500
TZNAME:CDT
DTSTART:20250309T080000
END:DAYLIGHT
BEGIN:STANDARD
TZOFFSETFROM:-0500
TZOFFSETTO:-0600
TZNAME:CST
DTSTART:20251102T070000
END:STANDARD
END:VTIMEZONE
BEGIN:VEVENT
DTSTART;TZID=America/Phoenix:20240816T160000
DTEND;TZID=America/Phoenix:20240816T173000
DTSTAMP:20260424T013645
CREATED:20240705T190535Z
LAST-MODIFIED:20240807T183338Z
UID:10000024-1723824000-1723829400@wargamefilm.com
SUMMARY:Sedona AZ
DESCRIPTION:
URL:https://wargamefilm.com/event/mary-d-fisher-theatre-sedona/
LOCATION:Mary D. Fisher Theatre\, 2030 W. State Route 89A\, Sedona\, AZ\, 86336\, United States
CATEGORIES:Theatrical
END:VEVENT
BEGIN:VEVENT
DTSTART;TZID=America/Los_Angeles:20240816T164500
DTEND;TZID=America/Los_Angeles:20240816T183000
DTSTAMP:20260424T013645
CREATED:20240816T202909Z
LAST-MODIFIED:20240816T203015Z
UID:10000604-1723826700-1723833000@wargamefilm.com
SUMMARY:Los Angeles CA
DESCRIPTION:
URL:https://wargamefilm.com/event/los-angeles-ca/
LOCATION:The Landmark Westwood\, 1045 Broxton Ave #2803\, Los Angeles\, CA\, 90024\, United States
CATEGORIES:Theatrical
END:VEVENT
BEGIN:VEVENT
DTSTART;TZID=America/Los_Angeles:20240816T171500
DTEND;TZID=America/Los_Angeles:20240816T193000
DTSTAMP:20260424T013645
CREATED:20240814T193507Z
LAST-MODIFIED:20240814T193507Z
UID:10000588-1723828500-1723836600@wargamefilm.com
SUMMARY:Seattle WA
DESCRIPTION:
URL:https://wargamefilm.com/event/seattle-wa-2-2-2/
LOCATION:Ark Lodge Cinemas\, 4816 Rainier Ave S\, Seattle\, WA\, 98118\, United States
CATEGORIES:Theatrical
END:VEVENT
BEGIN:VEVENT
DTSTART;TZID=America/Chicago:20240816T181500
DTEND;TZID=America/Chicago:20240816T194500
DTSTAMP:20260424T013645
CREATED:20240807T023641Z
LAST-MODIFIED:20240807T183328Z
UID:10000551-1723832100-1723837500@wargamefilm.com
SUMMARY:Oklahoma City OK
DESCRIPTION:
URL:https://wargamefilm.com/event/rodeo-cinema-stockyards-2-2-2-2-2-2-2-2-2/
LOCATION:Rodeo Cinema Stockyards\, 2221 Exchange Ave\, Oklahoma City\, OK\, 73108\, United States
CATEGORIES:Theatrical
END:VEVENT
BEGIN:VEVENT
DTSTART;TZID=America/Los_Angeles:20240816T194500
DTEND;TZID=America/Los_Angeles:20240816T213000
DTSTAMP:20260424T013645
CREATED:20240814T193428Z
LAST-MODIFIED:20240814T193428Z
UID:10000587-1723837500-1723843800@wargamefilm.com
SUMMARY:Seattle WA
DESCRIPTION:
URL:https://wargamefilm.com/event/seattle-wa-2-2/
LOCATION:Ark Lodge Cinemas\, 4816 Rainier Ave S\, Seattle\, WA\, 98118\, United States
CATEGORIES:Theatrical
END:VEVENT
BEGIN:VEVENT
DTSTART;TZID=America/Chicago:20240816T203000
DTEND;TZID=America/Chicago:20240816T220000
DTSTAMP:20260424T013645
CREATED:20240807T023728Z
LAST-MODIFIED:20240807T183324Z
UID:10000554-1723840200-1723845600@wargamefilm.com
SUMMARY:Oklahoma City OK
DESCRIPTION:﻿
URL:https://wargamefilm.com/event/rodeo-cinema-stockyards-2-2-2-2-2-2-2-2-2-2-2-2/
LOCATION:Rodeo Cinema Stockyards\, 2221 Exchange Ave\, Oklahoma City\, OK\, 73108\, United States
CATEGORIES:Theatrical
END:VEVENT
BEGIN:VEVENT
DTSTART;TZID=America/Chicago:20240817T113000
DTEND;TZID=America/Chicago:20240817T130000
DTSTAMP:20260424T013645
CREATED:20240807T023258Z
LAST-MODIFIED:20240807T183320Z
UID:10000543-1723894200-1723899600@wargamefilm.com
SUMMARY:Oklahoma City OK
DESCRIPTION:
URL:https://wargamefilm.com/event/rodeo-cinema-stockyards-2/
LOCATION:Rodeo Cinema Stockyards\, 2221 Exchange Ave\, Oklahoma City\, OK\, 73108\, United States
CATEGORIES:Theatrical
END:VEVENT
BEGIN:VEVENT
DTSTART;TZID=America/Los_Angeles:20240817T131500
DTEND;TZID=America/Los_Angeles:20240817T150000
DTSTAMP:20260424T013645
CREATED:20240814T193548Z
LAST-MODIFIED:20240814T193548Z
UID:10000589-1723900500-1723906800@wargamefilm.com
SUMMARY:Seattle WA
DESCRIPTION:
URL:https://wargamefilm.com/event/seattle-wa-2-2-2-2/
LOCATION:Ark Lodge Cinemas\, 4816 Rainier Ave S\, Seattle\, WA\, 98118\, United States
CATEGORIES:Theatrical
END:VEVENT
BEGIN:VEVENT
DTSTART;TZID=America/Chicago:20240817T134500
DTEND;TZID=America/Chicago:20240817T151500
DTSTAMP:20260424T013645
CREATED:20240807T023403Z
LAST-MODIFIED:20240807T183315Z
UID:10000546-1723902300-1723907700@wargamefilm.com
SUMMARY:Oklahoma City OK
DESCRIPTION:
URL:https://wargamefilm.com/event/rodeo-cinema-stockyards-2-2-2-2/
LOCATION:Rodeo Cinema Stockyards\, 2221 Exchange Ave\, Oklahoma City\, OK\, 73108\, United States
CATEGORIES:Theatrical
END:VEVENT
BEGIN:VEVENT
DTSTART;TZID=America/Los_Angeles:20240817T143000
DTEND;TZID=America/Los_Angeles:20240817T160000
DTSTAMP:20260424T013645
CREATED:20240816T202955Z
LAST-MODIFIED:20240816T202955Z
UID:10000605-1723905000-1723910400@wargamefilm.com
SUMMARY:Los Angeles CA
DESCRIPTION:
URL:https://wargamefilm.com/event/los-angeles-ca-2/
LOCATION:The Landmark Westwood\, 1045 Broxton Ave #2803\, Los Angeles\, CA\, 90024\, United States
CATEGORIES:Theatrical
END:VEVENT
BEGIN:VEVENT
DTSTART;TZID=America/Los_Angeles:20240817T154500
DTEND;TZID=America/Los_Angeles:20240817T173000
DTSTAMP:20260424T013645
CREATED:20240814T193621Z
LAST-MODIFIED:20240814T193621Z
UID:10000590-1723909500-1723915800@wargamefilm.com
SUMMARY:Seattle WA
DESCRIPTION:
URL:https://wargamefilm.com/event/seattle-wa-2-2-2-2-2/
LOCATION:Ark Lodge Cinemas\, 4816 Rainier Ave S\, Seattle\, WA\, 98118\, United States
CATEGORIES:Theatrical
END:VEVENT
BEGIN:VEVENT
DTSTART;TZID=America/Chicago:20240817T160000
DTEND;TZID=America/Chicago:20240817T173000
DTSTAMP:20260424T013645
CREATED:20240807T023544Z
LAST-MODIFIED:20240807T183227Z
UID:10000549-1723910400-1723915800@wargamefilm.com
SUMMARY:Oklahoma City OK
DESCRIPTION:
URL:https://wargamefilm.com/event/rodeo-cinema-stockyards-2-2-2-2-2-2-2/
LOCATION:Rodeo Cinema Stockyards\, 2221 Exchange Ave\, Oklahoma City\, OK\, 73108\, United States
CATEGORIES:Theatrical
END:VEVENT
BEGIN:VEVENT
DTSTART;TZID=America/Phoenix:20240817T160000
DTEND;TZID=America/Phoenix:20240817T173000
DTSTAMP:20260424T013645
CREATED:20240807T022227Z
LAST-MODIFIED:20240807T183310Z
UID:10000538-1723910400-1723915800@wargamefilm.com
SUMMARY:Sedona AZ
DESCRIPTION:
URL:https://wargamefilm.com/event/mary-d-fisher-theatre-sedona-2/
LOCATION:Mary D. Fisher Theatre\, 2030 W. State Route 89A\, Sedona\, AZ\, 86336\, United States
CATEGORIES:Theatrical
END:VEVENT
BEGIN:VEVENT
DTSTART;TZID=America/Los_Angeles:20240817T164500
DTEND;TZID=America/Los_Angeles:20240817T183000
DTSTAMP:20260424T013645
CREATED:20240816T203042Z
LAST-MODIFIED:20240816T203042Z
UID:10000606-1723913100-1723919400@wargamefilm.com
SUMMARY:Los Angeles CA
DESCRIPTION:
URL:https://wargamefilm.com/event/los-angeles-ca-3/
LOCATION:The Landmark Westwood\, 1045 Broxton Ave #2803\, Los Angeles\, CA\, 90024\, United States
CATEGORIES:Theatrical
END:VEVENT
BEGIN:VEVENT
DTSTART;TZID=America/Chicago:20240817T181500
DTEND;TZID=America/Chicago:20240817T194500
DTSTAMP:20260424T013645
CREATED:20240807T023654Z
LAST-MODIFIED:20240807T183223Z
UID:10000552-1723918500-1723923900@wargamefilm.com
SUMMARY:Oklahoma City OK
DESCRIPTION:
URL:https://wargamefilm.com/event/rodeo-cinema-stockyards-2-2-2-2-2-2-2-2-2-2/
LOCATION:Rodeo Cinema Stockyards\, 2221 Exchange Ave\, Oklahoma City\, OK\, 73108\, United States
CATEGORIES:Theatrical
END:VEVENT
BEGIN:VEVENT
DTSTART;TZID=America/Los_Angeles:20240817T190000
DTEND;TZID=America/Los_Angeles:20240817T203000
DTSTAMP:20260424T013645
CREATED:20240814T193646Z
LAST-MODIFIED:20240814T193646Z
UID:10000591-1723921200-1723926600@wargamefilm.com
SUMMARY:Seattle WA
DESCRIPTION:
URL:https://wargamefilm.com/event/seattle-wa-2-2-2-2-2-2/
LOCATION:Ark Lodge Cinemas\, 4816 Rainier Ave S\, Seattle\, WA\, 98118\, United States
CATEGORIES:Theatrical
END:VEVENT
BEGIN:VEVENT
DTSTART;TZID=America/Chicago:20240817T203000
DTEND;TZID=America/Chicago:20240817T220000
DTSTAMP:20260424T013645
CREATED:20240807T023811Z
LAST-MODIFIED:20240807T183214Z
UID:10000556-1723926600-1723932000@wargamefilm.com
SUMMARY:Oklahoma City OK
DESCRIPTION:
URL:https://wargamefilm.com/event/rodeo-cinema-stockyards-2-2-2-2-2-2-2-2-2-2-2-2-2-2/
LOCATION:Rodeo Cinema Stockyards\, 2221 Exchange Ave\, Oklahoma City\, OK\, 73108\, United States
CATEGORIES:Theatrical
END:VEVENT
BEGIN:VEVENT
DTSTART;TZID=America/Chicago:20240817T203000
DTEND;TZID=America/Chicago:20240817T220000
DTSTAMP:20260424T013645
CREATED:20240807T023740Z
LAST-MODIFIED:20240807T183219Z
UID:10000555-1723926600-1723932000@wargamefilm.com
SUMMARY:Oklahoma City OK
DESCRIPTION:
URL:https://wargamefilm.com/event/rodeo-cinema-stockyards-2-2-2-2-2-2-2-2-2-2-2-2-2/
LOCATION:Rodeo Cinema Stockyards\, 2221 Exchange Ave\, Oklahoma City\, OK\, 73108\, United States
CATEGORIES:Theatrical
END:VEVENT
BEGIN:VEVENT
DTSTART;TZID=America/Chicago:20240818T113000
DTEND;TZID=America/Chicago:20240818T130000
DTSTAMP:20260424T013645
CREATED:20240807T023314Z
LAST-MODIFIED:20240807T183211Z
UID:10000544-1723980600-1723986000@wargamefilm.com
SUMMARY:Oklahoma City OK
DESCRIPTION:
URL:https://wargamefilm.com/event/rodeo-cinema-stockyards-2-2/
LOCATION:Rodeo Cinema Stockyards\, 2221 Exchange Ave\, Oklahoma City\, OK\, 73108\, United States
CATEGORIES:Theatrical
END:VEVENT
BEGIN:VEVENT
DTSTART;TZID=America/Los_Angeles:20240818T131500
DTEND;TZID=America/Los_Angeles:20240818T150000
DTSTAMP:20260424T013645
CREATED:20240814T193732Z
LAST-MODIFIED:20240814T193732Z
UID:10000592-1723986900-1723993200@wargamefilm.com
SUMMARY:Seattle WA
DESCRIPTION:
URL:https://wargamefilm.com/event/seattle-wa-2-2-2-2-2-2-2/
LOCATION:Ark Lodge Cinemas\, 4816 Rainier Ave S\, Seattle\, WA\, 98118\, United States
CATEGORIES:Theatrical
END:VEVENT
BEGIN:VEVENT
DTSTART;TZID=America/Chicago:20240818T134500
DTEND;TZID=America/Chicago:20240818T151500
DTSTAMP:20260424T013645
CREATED:20240807T023417Z
LAST-MODIFIED:20240807T183207Z
UID:10000547-1723988700-1723994100@wargamefilm.com
SUMMARY:Oklahoma City OK
DESCRIPTION:
URL:https://wargamefilm.com/event/rodeo-cinema-stockyards-2-2-2-2-2/
LOCATION:Rodeo Cinema Stockyards\, 2221 Exchange Ave\, Oklahoma City\, OK\, 73108\, United States
CATEGORIES:Theatrical
END:VEVENT
BEGIN:VEVENT
DTSTART;TZID=America/Los_Angeles:20240818T143000
DTEND;TZID=America/Los_Angeles:20240818T160000
DTSTAMP:20260424T013645
CREATED:20240816T203245Z
LAST-MODIFIED:20240816T203245Z
UID:10000608-1723991400-1723996800@wargamefilm.com
SUMMARY:Los Angeles CA
DESCRIPTION:
URL:https://wargamefilm.com/event/los-angeles-ca-3-2-2/
LOCATION:The Landmark Westwood\, 1045 Broxton Ave #2803\, Los Angeles\, CA\, 90024\, United States
CATEGORIES:Theatrical
END:VEVENT
BEGIN:VEVENT
DTSTART;TZID=America/Los_Angeles:20240818T154500
DTEND;TZID=America/Los_Angeles:20240818T193000
DTSTAMP:20260424T013645
CREATED:20240814T193800Z
LAST-MODIFIED:20240814T193840Z
UID:10000593-1723995900-1724009400@wargamefilm.com
SUMMARY:Seattle WA
DESCRIPTION:
URL:https://wargamefilm.com/event/seattle-wa-2-2-2-2-2-2-2-2/
LOCATION:Ark Lodge Cinemas\, 4816 Rainier Ave S\, Seattle\, WA\, 98118\, United States
CATEGORIES:Theatrical
END:VEVENT
BEGIN:VEVENT
DTSTART;TZID=America/Chicago:20240818T160000
DTEND;TZID=America/Chicago:20240818T173000
DTSTAMP:20260424T013645
CREATED:20240807T023558Z
LAST-MODIFIED:20240807T183158Z
UID:10000550-1723996800-1724002200@wargamefilm.com
SUMMARY:Oklahoma City OK
DESCRIPTION:
URL:https://wargamefilm.com/event/rodeo-cinema-stockyards-2-2-2-2-2-2-2-2/
LOCATION:Rodeo Cinema Stockyards\, 2221 Exchange Ave\, Oklahoma City\, OK\, 73108\, United States
CATEGORIES:Theatrical
END:VEVENT
BEGIN:VEVENT
DTSTART;TZID=America/Phoenix:20240818T160000
DTEND;TZID=America/Phoenix:20240818T173000
DTSTAMP:20260424T013645
CREATED:20240807T022247Z
LAST-MODIFIED:20240807T183204Z
UID:10000539-1723996800-1724002200@wargamefilm.com
SUMMARY:Sedona AZ
DESCRIPTION:
URL:https://wargamefilm.com/event/mary-d-fisher-theatre-sedona-2-2/
LOCATION:Mary D. Fisher Theatre\, 2030 W. State Route 89A\, Sedona\, AZ\, 86336\, United States
CATEGORIES:Theatrical
END:VEVENT
BEGIN:VEVENT
DTSTART;TZID=America/Los_Angeles:20240818T164500
DTEND;TZID=America/Los_Angeles:20240818T183000
DTSTAMP:20260424T013645
CREATED:20240816T203118Z
LAST-MODIFIED:20240816T203118Z
UID:10000607-1723999500-1724005800@wargamefilm.com
SUMMARY:Los Angeles CA
DESCRIPTION:
URL:https://wargamefilm.com/event/los-angeles-ca-3-2/
LOCATION:The Landmark Westwood\, 1045 Broxton Ave #2803\, Los Angeles\, CA\, 90024\, United States
CATEGORIES:Theatrical
END:VEVENT
BEGIN:VEVENT
DTSTART;TZID=America/Chicago:20240818T181500
DTEND;TZID=America/Chicago:20240818T194500
DTSTAMP:20260424T013645
CREATED:20240807T023708Z
LAST-MODIFIED:20240807T183147Z
UID:10000553-1724004900-1724010300@wargamefilm.com
SUMMARY:Oklahoma City OK
DESCRIPTION:
URL:https://wargamefilm.com/event/rodeo-cinema-stockyards-2-2-2-2-2-2-2-2-2-2-2/
LOCATION:Rodeo Cinema Stockyards\, 2221 Exchange Ave\, Oklahoma City\, OK\, 73108\, United States
CATEGORIES:Theatrical
END:VEVENT
BEGIN:VEVENT
DTSTART;TZID=America/Los_Angeles:20240818T190000
DTEND;TZID=America/Los_Angeles:20240818T203000
DTSTAMP:20260424T013645
CREATED:20240814T193928Z
LAST-MODIFIED:20240814T193928Z
UID:10000594-1724007600-1724013000@wargamefilm.com
SUMMARY:Seattle WA
DESCRIPTION:
URL:https://wargamefilm.com/event/seattle-wa-2-2-2-2-2-2-2-2-2/
LOCATION:Ark Lodge Cinemas\, 4816 Rainier Ave S\, Seattle\, WA\, 98118\, United States
CATEGORIES:Theatrical
END:VEVENT
BEGIN:VEVENT
DTSTART;TZID=America/Chicago:20240818T203000
DTEND;TZID=America/Chicago:20240818T220000
DTSTAMP:20260424T013645
CREATED:20240807T023829Z
LAST-MODIFIED:20240807T183141Z
UID:10000557-1724013000-1724018400@wargamefilm.com
SUMMARY:Oklahoma City OK
DESCRIPTION:
URL:https://wargamefilm.com/event/rodeo-cinema-stockyards-2-2-2-2-2-2-2-2-2-2-2-2-2-2-2/
LOCATION:Rodeo Cinema Stockyards\, 2221 Exchange Ave\, Oklahoma City\, OK\, 73108\, United States
CATEGORIES:Theatrical
END:VEVENT
BEGIN:VEVENT
DTSTART;TZID=America/Chicago:20240819T130000
DTEND;TZID=America/Chicago:20240819T130000
DTSTAMP:20260424T013645
CREATED:20240729T201636Z
LAST-MODIFIED:20240807T183137Z
UID:10000427-1724072400-1724072400@wargamefilm.com
SUMMARY:Chicago IL
DESCRIPTION:Dialogue: Retired United States Army lieutenant colonel and former Director for European Affairs for the United States National Security Council Alexander Vindman\, United States Senator Heidi Heitkamp\, United States Senator Doug Jones\, and Fmr. Governor of Montana Steve Bullock in conversation.
URL:https://wargamefilm.com/event/gene-siskel-film-center-chicago/
LOCATION:Gene Siskel Film Center\, 164 N State St\, Chicago\, IL\, 60601\, United States
CATEGORIES:Panel,Screening during Democratic National Convention
END:VEVENT
END:VCALENDAR