BEGIN:VCALENDAR
VERSION:2.0
PRODID:-//War Game - ECPv6.15.20//NONSGML v1.0//EN
CALSCALE:GREGORIAN
METHOD:PUBLISH
X-WR-CALNAME:War Game
X-ORIGINAL-URL:https://wargamefilm.com
X-WR-CALDESC:Events for War Game
REFRESH-INTERVAL;VALUE=DURATION:PT1H
X-Robots-Tag:noindex
X-PUBLISHED-TTL:PT1H
BEGIN:VTIMEZONE
TZID:Australia/Melbourne
BEGIN:STANDARD
TZOFFSETFROM:+1100
TZOFFSETTO:+1000
TZNAME:AEST
DTSTART:20230401T160000
END:STANDARD
BEGIN:DAYLIGHT
TZOFFSETFROM:+1000
TZOFFSETTO:+1100
TZNAME:AEDT
DTSTART:20230930T160000
END:DAYLIGHT
BEGIN:STANDARD
TZOFFSETFROM:+1100
TZOFFSETTO:+1000
TZNAME:AEST
DTSTART:20240406T160000
END:STANDARD
BEGIN:DAYLIGHT
TZOFFSETFROM:+1000
TZOFFSETTO:+1100
TZNAME:AEDT
DTSTART:20241005T160000
END:DAYLIGHT
BEGIN:STANDARD
TZOFFSETFROM:+1100
TZOFFSETTO:+1000
TZNAME:AEST
DTSTART:20250405T160000
END:STANDARD
BEGIN:DAYLIGHT
TZOFFSETFROM:+1000
TZOFFSETTO:+1100
TZNAME:AEDT
DTSTART:20251004T160000
END:DAYLIGHT
END:VTIMEZONE
BEGIN:VEVENT
DTSTART;TZID=Australia/Melbourne:20241027T140000
DTEND;TZID=Australia/Melbourne:20241027T160000
DTSTAMP:20260423T133645
CREATED:20241023T233949Z
LAST-MODIFIED:20241023T233949Z
UID:10000921-1730037600-1730044800@wargamefilm.com
SUMMARY:Melbourne AUS
DESCRIPTION:Australian International Documentary Conference \nComing up at 2pm\, Sunday 27 October is the Australian premiere of War Game\, a strikingly current\, real-life political thriller\, screening just in time for the closely-watched 2024 US election. \nQ/A to follow with co-director Jesse Moss. \n 
URL:https://wargamefilm.com/event/melbourne-aus/
LOCATION:ACMI Federation Square\, Flinders St\, Melbourne\, VIC\, 3000\, Australia
CATEGORIES:Panel,Public Screening
GEO:-37.8176340984;144.969056405
X-APPLE-STRUCTURED-LOCATION;VALUE=URI;X-ADDRESS=ACMI Federation Square Flinders St Melbourne VIC 3000 Australia;X-APPLE-RADIUS=500;X-TITLE=Flinders St:geo:144.969056405,-37.8176340984
END:VEVENT
END:VCALENDAR