BEGIN:VCALENDAR
VERSION:2.0
PRODID:-//War Game - ECPv6.15.20//NONSGML v1.0//EN
CALSCALE:GREGORIAN
METHOD:PUBLISH
X-ORIGINAL-URL:https://wargamefilm.com
X-WR-CALDESC:Events for War Game
REFRESH-INTERVAL;VALUE=DURATION:PT1H
X-Robots-Tag:noindex
X-PUBLISHED-TTL:PT1H
BEGIN:VTIMEZONE
TZID:America/Phoenix
BEGIN:STANDARD
TZOFFSETFROM:-0700
TZOFFSETTO:-0700
TZNAME:MST
DTSTART:20230101T000000
END:STANDARD
END:VTIMEZONE
BEGIN:VEVENT
DTSTART;TZID=America/Phoenix:20241030T181500
DTEND;TZID=America/Phoenix:20241030T214500
DTSTAMP:20260425T101101
CREATED:20240930T195427Z
LAST-MODIFIED:20240930T195427Z
UID:10000902-1730312100-1730324700@wargamefilm.com
SUMMARY:Phoenix AZ
DESCRIPTION:The First Amendment Forum (second floor) | Walter Cronkite School of Journalism and Mass Communication | 555 N Central Ave\, Phoenix\, AZ 85004 \nAfter the screening\, John Giles\, the mayor of Mesa\, Arizona\, will moderate a panel discussion featuring Tony Gerber\, the film’s director; Elizabeth Neumann\, a national security expert who served in the Department of Homeland Security from 2017 to 2020; and Andrew Gordon\, a former Counselor at the Department of Homeland Security who now teaches national security law at ASU’s Sandra Day O’Connor College of Law. We expect a lively\, civil conversation about the relative importance of law and norms\, the uneasy relationship between information and truth\, and even the potential uses of both persuasion and force.
URL:https://wargamefilm.com/event/phoenix-az/
LOCATION:The First Amendment Forum\, 555 N Central Ave\, Phoenix\, AZ\, 85004\, United States
CATEGORIES:Panel,Public Screening
END:VEVENT
END:VCALENDAR